BEGIN:VCALENDAR
VERSION:2.0
PRODID:spatie/icalendar-generator
DESCRIPTION:Évènements de GSA 05
X-WR-CALDESC:Évènements de GSA 05
REFRESH-INTERVAL;VALUE=DURATION:PT1440M
X-PUBLISHED-TTL:PT1440M
BEGIN:VTIMEZONE
TZID:Europe/Paris
BEGIN:STANDARD
DTSTART:20251026T030000Z
TZOFFSETFROM:+0200
TZOFFSETTO:+0100
END:STANDARD
BEGIN:DAYLIGHT
DTSTART:20260329T020000Z
TZOFFSETFROM:+0100
TZOFFSETTO:+0200
END:DAYLIGHT
END:VTIMEZONE
BEGIN:VTIMEZONE
TZID:UTC
BEGIN:STANDARD
DTSTART:20250726T172132Z
TZOFFSETFROM:+0000
TZOFFSETTO:+0000
END:STANDARD
END:VTIMEZONE
BEGIN:VEVENT
UID:19-15
DTSTAMP:20260422T172132Z
SUMMARY:“Initiation à la robotique”
LOCATION:GSA05 8 chemin de Patac  Gap  05000
ORGANIZER;CN=GSA Edit:MAILTO:contact@gsa05.fr
DTSTART;TZID=Europe/Paris:20260422T100000
DTEND;TZID=Europe/Paris:20260422T120000
X-ALT-DESC;FMTTYPE=TEXT/HTML:8 -12 ans Vous pensez que la robotique n’est
  pas faite pour vous\, qu’il faut être doué en informatique ? A traver
 s cette initiation vous découvrirez non seulement le fonctionnement des r
 obots mais aussi la notion de langage informatique et les principes de la 
 programmation de façon simple et progressive. Adhésion obligatoire: Cli
 quer ici pour adhérer…
CATEGORIES:Atelier
URL;VALUE=URI:https://gsa05.fr/mc-events/initiation-a-la-robotique/?mc_id=1
 9
END:VEVENT
END:VCALENDAR