BEGIN:VCALENDAR
VERSION:2.0
PRODID:spatie/icalendar-generator
DESCRIPTION:Évènements de GSA 05
X-WR-CALDESC:Évènements de GSA 05
REFRESH-INTERVAL;VALUE=DURATION:PT1440M
X-PUBLISHED-TTL:PT1440M
BEGIN:VTIMEZONE
TZID:Europe/Paris
BEGIN:STANDARD
DTSTART:20251026T030000Z
TZOFFSETFROM:+0200
TZOFFSETTO:+0100
END:STANDARD
BEGIN:DAYLIGHT
DTSTART:20260329T020000Z
TZOFFSETFROM:+0100
TZOFFSETTO:+0200
END:DAYLIGHT
END:VTIMEZONE
BEGIN:VTIMEZONE
TZID:UTC
BEGIN:STANDARD
DTSTART:20250726T174220Z
TZOFFSETFROM:+0000
TZOFFSETTO:+0000
END:STANDARD
END:VTIMEZONE
BEGIN:VEVENT
UID:18-14
DTSTAMP:20260422T174220Z
SUMMARY:Escape-Game “Les découvertes de la professeur Radonovitch”
LOCATION:GSA05 8 chemin de Patac  Gap  05000
ORGANIZER;CN=GSA Edit:MAILTO:contact@gsa05.fr
DTSTART;TZID=Europe/Paris:20260421T100000
DTEND;TZID=Europe/Paris:20260421T143000
X-ALT-DESC;FMTTYPE=TEXT/HTML:sessions de 50min: 10h - 11h - 13h30 - 14h30 A
  partir de 8 ans\, 1 adulte obligatoire Pourquoi la professeur Radonovitc
 h a-t-elle disparu ? Aidez son assistante dans son laboratoire avant l’a
 rrivée des journalistes ! Dans la peau de scientifiques\, venez mener l
 ’enquête et en apprendre plus sur la qualité de l’air et le gaz…
CATEGORIES:Escape-game
URL;VALUE=URI:https://gsa05.fr/mc-events/escape-game-les-decouvertes-de-la-
 professeur-radonovitch/?mc_id=18
END:VEVENT
END:VCALENDAR