BEGIN:VCALENDAR
VERSION:2.0
PRODID:spatie/icalendar-generator
DESCRIPTION:Évènements de GSA 05
X-WR-CALDESC:Évènements de GSA 05
REFRESH-INTERVAL;VALUE=DURATION:PT1440M
X-PUBLISHED-TTL:PT1440M
BEGIN:VTIMEZONE
TZID:Europe/Paris
BEGIN:STANDARD
DTSTART:20251026T030000Z
TZOFFSETFROM:+0200
TZOFFSETTO:+0100
END:STANDARD
BEGIN:DAYLIGHT
DTSTART:20260329T020000Z
TZOFFSETFROM:+0100
TZOFFSETTO:+0200
END:DAYLIGHT
END:VTIMEZONE
BEGIN:VTIMEZONE
TZID:UTC
BEGIN:STANDARD
DTSTART:20250726T162112Z
TZOFFSETFROM:+0000
TZOFFSETTO:+0000
END:STANDARD
END:VTIMEZONE
BEGIN:VEVENT
UID:11-8
DTSTAMP:20260422T162112Z
SUMMARY:ESCAPE-GAME “Ambroisie” / Fête de la Biodiversité
LOCATION:Chorges
ORGANIZER;CN=GSA Edit:MAILTO:contact@gsa05.fr
DTSTART;TZID=Europe/Paris;VALUE=DATE:20260329
DTEND;TZID=Europe/Paris;VALUE=DATE:20260330
X-ALT-DESC;FMTTYPE=TEXT/HTML:Organisé par l’association Idées de demain
 : conférences\, sorties nature\, ateliers\, expositions\, escape-game.. c
 e sont pas moins de 45 exposants qui sont attendus et proposent un program
 me riche autour de la biodiversité. Toutes les animations sont gratuites 
 et ouvertes à tous. GSA proposera un escape-game / stand autour de la pla
 nte invasive l’Ambroisie. 
CATEGORIES:Escape-game,  Stand
URL;VALUE=URI:https://gsa05.fr/mc-events/escape-game-ambroisie-fete-de-la-b
 iodiversite/?mc_id=11
END:VEVENT
END:VCALENDAR