BEGIN:VCALENDAR
VERSION:2.0
PRODID:spatie/icalendar-generator
DESCRIPTION:Évènements de GSA 05
X-WR-CALDESC:Évènements de GSA 05
REFRESH-INTERVAL;VALUE=DURATION:PT1440M
X-PUBLISHED-TTL:PT1440M
BEGIN:VTIMEZONE
TZID:Europe/Paris
BEGIN:STANDARD
DTSTART:20251026T030000Z
TZOFFSETFROM:+0200
TZOFFSETTO:+0100
END:STANDARD
BEGIN:DAYLIGHT
DTSTART:20260329T020000Z
TZOFFSETFROM:+0100
TZOFFSETTO:+0200
END:DAYLIGHT
BEGIN:STANDARD
DTSTART:20261025T030000Z
TZOFFSETFROM:+0200
TZOFFSETTO:+0100
END:STANDARD
END:VTIMEZONE
BEGIN:VTIMEZONE
TZID:UTC
BEGIN:STANDARD
DTSTART:20250726T153811Z
TZOFFSETFROM:+0000
TZOFFSETTO:+0000
END:STANDARD
END:VTIMEZONE
BEGIN:VEVENT
UID:20-16
DTSTAMP:20260422T153811Z
SUMMARY:“Maths et nature”
LOCATION:GSA05 8 chemin de Patac  Gap  05000
ORGANIZER;CN=GSA Edit:MAILTO:contact@gsa05.fr
DTSTART;TZID=Europe/Paris:20260424T100000
DTEND;TZID=Europe/Paris:20260424T120000
X-ALT-DESC;FMTTYPE=TEXT/HTML:A partir de 6 ans - Atelier en extérieur Les 
 maths sont-elles forcément à étudier dans une salle de classe ? Venez d
 écouvrir comment faire des maths\, dans la nature !  Adhésion obligatoi
 re: Cliquer ici pour adhérer si nouvelle adhésion: 1e atelier gratuit/
  si déjà adhérent 2026: tarif 5€ Pour réserver c'est un petit mail 
 à inscription@gsa05.fr…
CATEGORIES:Sortie
URL;VALUE=URI:https://gsa05.fr/mc-events/maths-et-nature/?mc_id=20
END:VEVENT
END:VCALENDAR