BEGIN:VCALENDAR
VERSION:2.0
PRODID:spatie/icalendar-generator
DESCRIPTION:Évènements de GSA 05
X-WR-CALDESC:Évènements de GSA 05
REFRESH-INTERVAL;VALUE=DURATION:PT1440M
X-PUBLISHED-TTL:PT1440M
BEGIN:VTIMEZONE
TZID:Europe/Paris
BEGIN:STANDARD
DTSTART:20251026T030000Z
TZOFFSETFROM:+0200
TZOFFSETTO:+0100
END:STANDARD
BEGIN:DAYLIGHT
DTSTART:20260329T020000Z
TZOFFSETFROM:+0100
TZOFFSETTO:+0200
END:DAYLIGHT
END:VTIMEZONE
BEGIN:VTIMEZONE
TZID:UTC
BEGIN:STANDARD
DTSTART:20250726T154956Z
TZOFFSETFROM:+0000
TZOFFSETTO:+0000
END:STANDARD
END:VTIMEZONE
BEGIN:VEVENT
UID:16-12
DTSTAMP:20260422T154956Z
SUMMARY:“L”eau du robinet\, ça coule de source ? 2/2”
LOCATION:GSA05 8 chemin de Patac  Gap  05000
ORGANIZER;CN=GSA Edit:MAILTO:contact@gsa05.fr
DTSTART;TZID=Europe/Paris:20260420T100000
DTEND;TZID=Europe/Paris:20260420T120000
X-ALT-DESC;FMTTYPE=TEXT/HTML:Venez découvrir nos ateliers scientifiques pr
 oposés dans nos locaux à Gap pendant les vacances d'avril 2026 Nous abor
 derons le cycle de l'eau domestique et réaliserons de petites expérience
 s scientifiques (pour clarifier une eau ou analyser sa potabilité). Manip
 ulations et expérimentations au programme. à partir de 8 ans Adhésion o
 bligatoire: Cliquer ici pour adhérer si nouvelle adhésion:…
CATEGORIES:Atelier
URL;VALUE=URI:https://gsa05.fr/mc-events/leau-du-robinet-ca-coule-de-source
 -2-2-2/?mc_id=16
END:VEVENT
END:VCALENDAR