BEGIN:VCALENDAR
VERSION:2.0
PRODID:spatie/icalendar-generator
DESCRIPTION:Évènements de GSA 05
X-WR-CALDESC:Évènements de GSA 05
REFRESH-INTERVAL;VALUE=DURATION:PT1440M
X-PUBLISHED-TTL:PT1440M
BEGIN:VTIMEZONE
TZID:Europe/Paris
BEGIN:STANDARD
DTSTART:20251026T030000Z
TZOFFSETFROM:+0200
TZOFFSETTO:+0100
END:STANDARD
BEGIN:DAYLIGHT
DTSTART:20260329T020000Z
TZOFFSETFROM:+0100
TZOFFSETTO:+0200
END:DAYLIGHT
END:VTIMEZONE
BEGIN:VTIMEZONE
TZID:UTC
BEGIN:STANDARD
DTSTART:20250726T153612Z
TZOFFSETFROM:+0000
TZOFFSETTO:+0000
END:STANDARD
END:VTIMEZONE
BEGIN:VEVENT
UID:15-11
DTSTAMP:20260422T153612Z
SUMMARY:ESCAPE-GAME “Sauvons Durancia”
LOCATION:GSA05 8 chemin de Patac  Gap  05000
ORGANIZER;CN=GSA Edit:MAILTO:contact@gsa05.fr
DTSTART;TZID=Europe/Paris:20260408T100000
DTEND;TZID=Europe/Paris:20260408T153000
X-ALT-DESC;FMTTYPE=TEXT/HTML:A partir de 8 ans\, 1 adulte obligatoire Au b
 ord de la rivière\, un camp de base abandonné\, deux scientifiques dispa
 rus et un étrange message dans une bouteille. Sur quoi travaillaient nos 
 deux biologistes et que s’apprêtaient-ils à découvrir? Venez mener l
 ’enquête et en apprendre plus sur la biodiversité de Durancia. session
 s de 1h: 10h -…
CATEGORIES:Escape-game
URL;VALUE=URI:https://gsa05.fr/mc-events/escape-game-sauvons-durancia-2/?mc
 _id=15
END:VEVENT
END:VCALENDAR