BEGIN:VCALENDAR
VERSION:2.0
PRODID:spatie/icalendar-generator
DESCRIPTION:Évènements de GSA 05
X-WR-CALDESC:Évènements de GSA 05
REFRESH-INTERVAL;VALUE=DURATION:PT1440M
X-PUBLISHED-TTL:PT1440M
BEGIN:VTIMEZONE
TZID:Europe/Paris
BEGIN:STANDARD
DTSTART:20251026T030000Z
TZOFFSETFROM:+0200
TZOFFSETTO:+0100
END:STANDARD
BEGIN:DAYLIGHT
DTSTART:20260329T020000Z
TZOFFSETFROM:+0100
TZOFFSETTO:+0200
END:DAYLIGHT
END:VTIMEZONE
BEGIN:VTIMEZONE
TZID:UTC
BEGIN:STANDARD
DTSTART:20250726T135808Z
TZOFFSETFROM:+0000
TZOFFSETTO:+0000
END:STANDARD
END:VTIMEZONE
BEGIN:VEVENT
UID:13-9
DTSTAMP:20260422T135808Z
SUMMARY:Femmes de sciences
LOCATION:Musée département à gap
ORGANIZER;CN=GSA Edit:MAILTO:contact@gsa05.fr
DTSTART;TZID=Europe/Paris:20260307T140000
DTEND;TZID=Europe/Paris:20260307T173000
X-ALT-DESC;FMTTYPE=TEXT/HTML:Le 9 mars c'est la Journée internationale des
  droits des femmes: l’occasion de rappeler qu’il existe encore beaucou
 p de stéréotypes autour de l’égalité femmes-hommes\, et ainsi dans l
 eur accessibilité respective aux domaines des sciences et métiers associ
 és.  Dans ce cadre\, venez découvrir les stand ou évènements auxquels
  GSA participe.
CATEGORIES:Atelier,  Conférence,  Exposition
URL;VALUE=URI:https://gsa05.fr/mc-events/femmes-de-sciences/?mc_id=13
END:VEVENT
END:VCALENDAR